


BEGIN:VCALENDAR
VERSION:2.0
PRODID:-//itrust - ECPv6.5.1.4//NONSGML v1.0//EN
CALSCALE:GREGORIAN
METHOD:PUBLISH
X-WR-CALNAME:itrust
X-ORIGINAL-URL:https://www.itrust.lu
X-WR-CALDESC:Events for itrust
REFRESH-INTERVAL;VALUE=DURATION:PT1H
X-Robots-Tag:noindex
X-PUBLISHED-TTL:PT1H
BEGIN:VTIMEZONE
TZID:Europe/Luxembourg
BEGIN:DAYLIGHT
TZOFFSETFROM:+0100
TZOFFSETTO:+0200
TZNAME:CEST
DTSTART:20170326T010000
END:DAYLIGHT
BEGIN:STANDARD
TZOFFSETFROM:+0200
TZOFFSETTO:+0100
TZNAME:CET
DTSTART:20171029T010000
END:STANDARD
END:VTIMEZONE
BEGIN:VEVENT
DTSTART;TZID=Europe/Luxembourg:20170621T170000
DTEND;TZID=Europe/Luxembourg:20170621T220000
DTSTAMP:20260423T120837
CREATED:20170322T082958Z
LAST-MODIFIED:20170626T090538Z
UID:7828-1498064400-1498082400@www.itrust.lu
SUMMARY:10-year anniversary of itrust consulting
DESCRIPTION:10-year anniversary of itrust consulting\n10-year anniversary of itrust consulting\n10-year anniversary of itrust consulting \n\nTo confirm your invitation to the 10th anniversary of itrust consulting on June 21st\, please fill out the registration form below:\nFirst name *Last name *Role (responsibility) *Email *Phone number *Company *Address *FieldFinancialManufacturerServicesCraftsmanshipMedicalInsuranceOtherGDPR RequirementsI have a clear idea of my GDPR requirementsI am lostHerewith I accept that the data I provided will be used by itrust consulting for sales\, marketing and support purposes. In general\, itrust consulting stores data for additional 5 years\, following the warranty period after the end of a project. Request order document
URL:https://www.itrust.lu/event/anniversary/
LOCATION:LALUX Assurances\, 9 Rue Jean Fischbach\, Leudelange\, 3372 \, Luxembourg
CATEGORIES:Event
ORGANIZER;CN="itrust consulting s.%C3%A0 r.l.":MAILTO:info@itrust.lu
END:VEVENT
END:VCALENDAR